BEGIN:VCALENDAR
VERSION:2.0
PRODID:-//eventon.com NONSGML v1.0//EN
CALSCALE:GREGORIAN
METHOD:PUBLISH
BEGIN:VEVENT
UID:69e61299c8571
DTSTAMP:20260420T114841Z
DTSTART:20260421T220000Z
DTEND:20260422T035900Z
LOCATION:Sandbar Tiki &amp; Grille - Englewood 1975 Beach Road
SUMMARY:The 2XL Band • Live Music on Manasota Key at SandBar Tiki & Grille
DESCRIPTION:\nhttps://swfloridalive.com/events/the-2xl-band-live-music-on-m
 anasota-key-at-sandbar-tiki-grille/
URL:https://swfloridalive.com/events/the-2xl-band-live-music-on-manasota-key-at-sandbar-tiki-grille/
END:VEVENT
END:VCALENDAR