BEGIN:VCALENDAR
VERSION:2.0
PRODID:-//eventon.com NONSGML v1.0//EN
CALSCALE:GREGORIAN
METHOD:PUBLISH
BEGIN:VEVENT
UID:69e5f90caa6f8
DTSTAMP:20260420T095940Z
DTSTART:20260426T220000Z
DTEND:20260427T035900Z
LOCATION:Sandbar Tiki &amp; Grille - Englewood 1975 Beach Road
SUMMARY:Gary and Kerri • Live Music on Manasota Key at SandBar Tiki & Grille
DESCRIPTION:\nhttps://swfloridalive.com/events/gary-and-kerri-live-music-on
 -manasota-key-at-sandbar-tiki-grille/
URL:https://swfloridalive.com/events/gary-and-kerri-live-music-on-manasota-key-at-sandbar-tiki-grille/
END:VEVENT
END:VCALENDAR